BEGIN:VCALENDAR
VERSION:2.0
PRODID:-//Σύγχρονος Ελληνικός Πολιτισμός - ECPv6.15.0.1//NONSGML v1.0//EN
CALSCALE:GREGORIAN
METHOD:PUBLISH
X-WR-CALNAME:Σύγχρονος Ελληνικός Πολιτισμός
X-ORIGINAL-URL:https://contemporary.culture.gov.gr
X-WR-CALDESC:Events for Σύγχρονος Ελληνικός Πολιτισμός
REFRESH-INTERVAL;VALUE=DURATION:PT1H
X-Robots-Tag:noindex
X-PUBLISHED-TTL:PT1H
BEGIN:VTIMEZONE
TZID:Europe/Athens
BEGIN:DAYLIGHT
TZOFFSETFROM:+0200
TZOFFSETTO:+0300
TZNAME:EEST
DTSTART:20250330T010000
END:DAYLIGHT
BEGIN:STANDARD
TZOFFSETFROM:+0300
TZOFFSETTO:+0200
TZNAME:EET
DTSTART:20251026T010000
END:STANDARD
BEGIN:DAYLIGHT
TZOFFSETFROM:+0200
TZOFFSETTO:+0300
TZNAME:EEST
DTSTART:20260329T010000
END:DAYLIGHT
BEGIN:STANDARD
TZOFFSETFROM:+0300
TZOFFSETTO:+0200
TZNAME:EET
DTSTART:20261025T010000
END:STANDARD
END:VTIMEZONE
BEGIN:VEVENT
DTSTART;TZID=Europe/Athens:20250625T000000
DTEND;TZID=Europe/Athens:20260228T000000
DTSTAMP:20260419T173443
CREATED:20251203T091426Z
LAST-MODIFIED:20251203T091430Z
UID:10000091-1750809600-1772236800@contemporary.culture.gov.gr
SUMMARY:Χάρτινες Εικόνες – Οι Απαρχές της Ελληνικής Χαρακτικής
DESCRIPTION:Η έκθεση με τίτλο Χάρτινες Εικόνες – Οι Απαρχές της Ελληνικής Χαρακτικής παρουσιάζει τα θρησκευτικά χαρακτικά της συλλογής της Εθνικής Πινακοθήκης\, μια λιγότερο γνωστή μορφή τέχνης η οποία επί δυόμισι περίπου αιώνες (μέσα 17ου-τέλος 19ου αι.) γνώρισε τεράστια διάδοση\, από τα τουρκοκρατούμενα εδάφη ως τις εσχατιές της Ορθόδοξης Ελληνικής διασποράς. \n \nΗ έκθεση διαρθρώνεται σε δύο ενότητες. Η πρώτη περιλαμβάνει μια σειρά από αγιορείτικα χαρακτικά του 18ου  και του 19ου  αι.: πανοραμικές απόψεις μοναστικών κέντρων όπως το Όρος Σινά ή το Άγιον Όρος\, αναπαραστάσεις μοναστηριών\, μορφές Αγίων ή σκηνές από τα πάθη του Χριστού\, οι απεικονίσεις αυτές είναι συχνά επιζωγραφισμένες ή συνοδεύονται από τις αντίστοιχες χάλκινες μήτρες. Στη δεύτερη\, ένα Προσκυνητάριον των Αγίων Τόπων (έκδοση: Βιέννη 1807)\, βιβλίο με περιγραφικό κείμενο και πρωτότυπα χαρακτικά έργα που αναπαριστούν μνημεία της Ιερουσαλήμ και σκηνές από τη ζωή και τα Πάθη του Χριστού\, πλαισιώνεται από μια επιλογή από αντίστοιχα χαρακτικά έργα σε ελεύθερα φύλλα που ανήκουν στις συλλογές του μουσείου. \n \nΜε την έκθεση αυτή\, η οποία παρουσιάζεται στην είσοδο του πρώτου ορόφου\, η Εθνική Πινακοθήκη εγκαινιάζει μια σειρά παρουσιάσεων που στοχεύουν στη γνωριμία του κοινού με τη χαρακτική τέχνη\, όπως αυτή εξελίχθηκε στον ελληνικό χώρο. \n \nΕπιμέλεια έκθεσης: Κατερίνα Ταβαντζή \n \nΞενάγηση από την επιμελήτρια της έκθεσης: Κυριακή 14 Δεκεμβρίου στις 16:00Χώρος: Κεντρικό Κτήριο ΕΠΜΑΣ\, Σημείο συνάντησης: Στην είσοδο του πρώτου ορόφουΚρατήσεις:  [email protected]Μέγιστος αριθμός συμμετεχόντων: 25 άτομαΔιάρκεια έκθεσης: 25 Ιουνίου 2025 – 28 Φεβρουαρίου 2026 \n \nΈργο: Άγνωστος ( -)“Τα παλάτια του Δαυίδ”\, 1787Χαλκογραφία σε χαρτίΔιαστάσεις έργου: 30\,4 x 38\,4 εκ.Διαστάσεις έργου ΕΝ: 30\,4 x 38\,4 cmΠ.6000
URL:https://contemporary.culture.gov.gr/event/%cf%87%ce%ac%cf%81%cf%84%ce%b9%ce%bd%ce%b5%cf%82-%ce%b5%ce%b9%ce%ba%cf%8c%ce%bd%ce%b5%cf%82-%ce%bf%ce%b9-%ce%b1%cf%80%ce%b1%cf%81%cf%87%ce%ad%cf%82-%cf%84%ce%b7%cf%82-%ce%b5%ce%bb%ce%bb/
LOCATION:Εθνική Πινακοθήκη
CATEGORIES:ΕΙΚΑΣΤΙΚΕΣ ΤΕΧΝΕΣ
ATTACH;FMTTYPE=image/jpeg:https://contemporary.culture.gov.gr/wp-content/uploads/2025/12/5339922885976600_Chartines-Eikones.jpg
END:VEVENT
BEGIN:VEVENT
DTSTART;TZID=Europe/Athens:20251021T000000
DTEND;TZID=Europe/Athens:20251031T000000
DTSTAMP:20260419T173443
CREATED:20251021T141915Z
LAST-MODIFIED:20251021T141922Z
UID:10000061-1761004800-1761868800@contemporary.culture.gov.gr
SUMMARY:Ο συμφωνικός "Μίκης'' στο Μέγαρο μουσικής Αθηνών
DESCRIPTION:Με αφορμή τα 100 χρόνια από τη γέννηση του Μίκη Θεοδωράκη\, το Μέγαρο Μουσικής Αθηνών παρουσιάζει τον κύκλο “Μίκης 100”\, με μια σειρά εκδηλώσεων που αναδεικνύουν τη συμφωνική\, λαϊκή και σκηνική του δημιουργία.  \nΣτη συναυλία της 21ης Οκτωβρίου\, η Εθνική Συμφωνική Ορχήστρα της ΕΡΤ\, υπό τη διεύθυνση του Ηλία Βουδούρη\, ερμηνεύει αποσπάσματα από τη Συμφωνία αρ. 1 και τη σουίτα για το μπαλέτο Ζορμπάς.  \nΟ Γιάννης Κότσιρας ερμηνεύει τραγούδια του Μίκη Θεοδωράκη σε νέες ενορχηστρώσεις των Αντώνη Σουσάμογλου και Λάζαρου Τσαβδαρίδη.  \nΤραγούδι: Γιάννης Κότσιρας \nΕθνική Συμφωνική Ορχήστρα ΕΡΤ \nΜουσική διεύθυνση: Ηλίας Βουδούρης
URL:https://contemporary.culture.gov.gr/event/%ce%bf-%cf%83%cf%85%ce%bc%cf%86%cf%89%ce%bd%ce%b9%ce%ba%cf%8c%cf%82-%ce%bc%ce%af%ce%ba%ce%b7%cf%82-%cf%83%cf%84%ce%bf-%ce%bc%ce%ad%ce%b3%ce%b1%cf%81%ce%bf-%ce%bc%ce%bf%cf%85%cf%83%ce%b9%ce%ba/
LOCATION:Μέγαρο Μουσικής
CATEGORIES:ΜΟΥΣΙΚΗ
ATTACH;FMTTYPE=image/jpeg:https://contemporary.culture.gov.gr/wp-content/uploads/2025/10/5302990311230548_965588.jpg
END:VEVENT
BEGIN:VEVENT
DTSTART;TZID=Europe/Athens:20251022T000000
DTEND;TZID=Europe/Athens:20251023T000000
DTSTAMP:20260419T173443
CREATED:20251021T112801Z
LAST-MODIFIED:20251021T112808Z
UID:10000059-1761091200-1761177600@contemporary.culture.gov.gr
SUMMARY:Έκθεση στη μνήμη του Π. Τέτση: Φως\, χρώμα και ομορφιά στην Εθνική Πινακοθήκη
DESCRIPTION:Με αφορμή  την επέτειο των 100 χρόνων από τη γέννηση του Παναγιώτη Τέτση\, η Εθνική Πινακοθήκη παρουσιάζει μια μεγάλη αναδρομική έκθεση αφιερωμένη στο έργο του. \nΟ Π. Τέτσης\, ζωγράφος\, χαράκτης\, δάσκαλος\, ακαδημαϊκός\, ο οποίος είχε διατελέσει Πρόεδρος της Καλλιτεχνικής Επιτροπής και Πρόεδρος του Δ.Σ. της Εθνικής Πινακοθήκης\, υπήρξε ένας από τους σπουδαιότερους καλλιτέχνες που με το έργο και τη διδασκαλία τους διαμόρφωσαν την Ελληνική μεταπολεμική ζωγραφική. \nΣτόχος της έκθεσης είναι όχι μόνο να παρουσιάσει την καλλιτεχνική πορεία του δημιουργού αλλά και να εστιάσει στην ιδιαίτερη «ματιά» με την οποία\, δίνοντας έμφαση στο φως και το χρώμα\, πραγματεύεται τα θέματά του ενεργοποιώντας το σύνολο των αισθήσεων. \nΗ Λαϊκή αγορά και η Ύδρα αποτελούν μια εισαγωγή για τον επισκέπτη στον κόσμο του Π. Τέτση. Ακολουθεί  μια κατάδυση στο έργο του. Θεματικές ομάδες\, οι οποίες δεν χαρακτηρίζονται από μια χρονολογική συνέχεια\, διαδέχονται η μία την άλλη  προκειμένου να αποκαλύψουν στον θεατή το εικαστικό ιδίωμα του καλλιτέχνη\, τον τρόπο με τον οποίο παρατηρεί τον κόσμο γύρω του και τον μετουσιώνει σε έργο τέχνης\, πίνακα\, χαρακτικό\, υδατογραφία\, παστέλ. Καθώς όμως γνωρίζουμε τον ιδιαίτερο κόσμο του Π. Τέτση\, αντιλαμβανόμαστε ότι οι θεματικές ενότητες\, πολλές φορές\, συμπίπτουν και με τις χρονολογικές. Για μεγάλα χρονικά διαστήματα\, που διαρκούν και τέσσερα αν όχι περισσότερα χρόνια\, μελετάει\, σχεδόν εμμονικά\, ένα συγκεκριμένο θέμα. Δημιουργούνται «σειρές»\, «ενότητες»\, όπως οι ποδοσφαιριστές\, οι κήποι\, οι μπαλκονόπορτες\, οι καρέκλες\, τα ναυπηγεία\, τα τοπία της Σίφνου\, η λαϊκή αγορά\, τα τραπέζια\, τα τοπία της Ύδρας\, οι βάρκες\, οι θάλασσες\, τα πορτραίτα των φίλων\, οι νεκρές φύσεις\, τα πεύκα και τέλος τα βράχια της Ύδρας. Οι ζωγραφικές αυτές σειρές πλαισιώνονται και με άλλα μέσα\, όπως μελάνια\, χαρακτικά\, ακουαρέλες\, γιατί θεωρεί ότι πρόκειται για συγκοινωνούντα δοχεία και με τον τρόπο αυτό του δίνεται η  δυνατότητα να δει το αποτέλεσμα στο οποίο θέλει να καταλήξει από πολλές οπτικές γωνίες. \nΣτην έκθεση παρουσιάζονται 160 έργα\, τα περισσότερα πίνακες ζωγραφικής\, χαρακτικά\, ακουαρέλες\, παστέλ. Η πλειοψηφία των έργων προέρχεται από τη συλλογή της Εθνικής Πινακοθήκης\, στην οποία περιήλθαν έπειτα από δωρεές που πραγματοποίησε ο καλλιτέχνης μεταξύ των ετών 1997 και 2015\, ενώ 64 από τα εκτιθέμενα έργα ανήκουν σε ιδιωτικές ή θεσμικές συλλογές. Η επιλογή έχει σκοπό να προβάλλει είτε την «εμμονική» ματιά με την οποία παρατηρούσε το περιβάλλον του και το μετουσίωνε εικαστικά είτε να αποκαλύψει άγνωστες πτυχές της καλλιτεχνικής του παραγωγής και τεχνοτροπίας. \n  \nΕγκαίνια: Πέμπτη 10 Απριλίου\,  Ώρα: 18:30 \nΕπιμέλεια: Έφη Αγαθονίκου \nΔιάρκεια: Απρίλιος  – Ιανουάριος 2026
URL:https://contemporary.culture.gov.gr/event/%ce%ad%ce%ba%ce%b8%ce%b5%cf%83%ce%b7-%cf%83%cf%84%ce%b7-%ce%bc%ce%bd%ce%ae%ce%bc%ce%b7-%cf%84%ce%bf%cf%85-%cf%80-%cf%84%ce%ad%cf%84%cf%83%ce%b7-%cf%86%cf%89%cf%82-%cf%87%cf%81%cf%8e%ce%bc%ce%b1/
LOCATION:Εθνική Πινακοθήκη – Κεντρικό Κτήριο
CATEGORIES:DESIGN
ATTACH;FMTTYPE=image/jpeg:https://contemporary.culture.gov.gr/wp-content/uploads/2025/10/5302871662891123_Screenshot-2025-10-21-135826.jpg
END:VEVENT
BEGIN:VEVENT
DTSTART;TZID=Europe/Athens:20251022T000000
DTEND;TZID=Europe/Athens:20251031T000000
DTSTAMP:20260419T173443
CREATED:20251022T084318Z
LAST-MODIFIED:20251022T084748Z
UID:10000064-1761091200-1761868800@contemporary.culture.gov.gr
SUMMARY:Εθνική Λυρική Σκηνή
DESCRIPTION:χχχχχχχχχχχχχχ
URL:https://contemporary.culture.gov.gr/event/%ce%b5%ce%b8%ce%bd%ce%b9%ce%ba%ce%ae-%ce%bb%cf%85%cf%81%ce%b9%ce%ba%ce%ae-%cf%83%ce%ba%ce%b7%ce%bd%ce%ae/
LOCATION:Εθνική Λυρική Σκηνή
CATEGORIES:ΜΟΥΣΙΚΗ
ATTACH;FMTTYPE=image/jpeg:https://contemporary.culture.gov.gr/wp-content/uploads/2025/09/5283781640195119_anna-mpolena-se-apeutheias-metadosi-apo-ti-metropolitan-opera.jpg
END:VEVENT
BEGIN:VEVENT
DTSTART;TZID=Europe/Athens:20251022T000000
DTEND;TZID=Europe/Athens:20251031T000000
DTSTAMP:20260419T173443
CREATED:20251022T100139Z
LAST-MODIFIED:20251022T100822Z
UID:10000067-1761091200-1761868800@contemporary.culture.gov.gr
SUMMARY:ΠΟΛΙΤΙΣΤΙΚΗ ΣΥΝΤΑΓΟΓΡΑΦΗΣΗ
DESCRIPTION:
URL:https://contemporary.culture.gov.gr/event/%cf%80%ce%bf%ce%bb%ce%b9%cf%84%ce%b9%cf%83%cf%84%ce%b9%ce%ba%ce%b7-%cf%83%cf%85%ce%bd%cf%84%ce%b1%ce%b3%ce%bf%ce%b3%cf%81%ce%b1%cf%86%ce%b7%cf%83%ce%b7/
LOCATION:ΑΘΗΝΑ
CATEGORIES:ΜΟΥΣΙΚΗ
END:VEVENT
BEGIN:VEVENT
DTSTART;TZID=Europe/Athens:20251022T000000
DTEND;TZID=Europe/Athens:20251031T000000
DTSTAMP:20260419T173443
CREATED:20251022T104810Z
LAST-MODIFIED:20251022T105013Z
UID:10000070-1761091200-1761868800@contemporary.culture.gov.gr
SUMMARY:Η έκθεση-υπερθέαμα για τον Βαν Γκογκ ανοίγει σήμερα στο Ολυμπιακό Κέντρο Γουδή
DESCRIPTION:Μετά τα συνεχόμενα sold out ανά τον κόσμο και με περισσότερους από 12.000.000 επισκέπτες\, η έκθεση “Van Gogh: The Immersive Experience” ανοίγει τις πόρτες της και στο ελληνικό κοινό στις 22 Οκτωβρίου\, στο Ολυμπιακό Κέντρο Γουδή (Κτίριο Β02). \nΗ πολυαναμενόμενη υπερπαραγωγή\, σε συνεργασία με τη διεθνούς φήμης Exhibition Hub\, έχει ήδη μαγέψει εκατομμύρια θεατές σε περισσότερες από 30 χώρες παγκοσμίως. Τώρα\, η Αθήνα υποδέχεται αυτό το εντυπωσιακό πολυθέαμα\, που συνδυάζει την τέχνη με την τεχνολογία και υπόσχεται ένα συγκλονιστικό συναισθηματικό ταξίδι στο έργο του εμβληματικού ζωγράφου\, αγγίζοντας και αποκαλύπτοντας τον μύθο του μέσω μιας μοναδικής βιωματικής εμπειρίας.
URL:https://contemporary.culture.gov.gr/event/%ce%b7-%ce%ad%ce%ba%ce%b8%ce%b5%cf%83%ce%b7-%cf%85%cf%80%ce%b5%cf%81%ce%b8%ce%ad%ce%b1%ce%bc%ce%b1-%ce%b3%ce%b9%ce%b1-%cf%84%ce%bf%ce%bd-%ce%b2%ce%b1%ce%bd-%ce%b3%ce%ba%ce%bf%ce%b3%ce%ba-%ce%b1-2/
CATEGORIES:DESIGN
ATTACH;FMTTYPE=image/jpeg:https://contemporary.culture.gov.gr/wp-content/uploads/2025/10/5303728423254665_77e987c98fed4beea7e7b17788a278f4.jpg
END:VEVENT
END:VCALENDAR